BEGIN:VCALENDAR
PRODID:Nexudus
VERSION:2.0
BEGIN:VTIMEZONE
TZID:Europe/Paris
X-LIC-LOCATION:Europe/Paris
BEGIN:STANDARD
DTSTART:20241027T030000
RRULE:FREQ=YEARLY;BYDAY=-1SU;BYMONTH=10
TZNAME:CET
TZOFFSETFROM:+0200
TZOFFSETTO:+0100
END:STANDARD
BEGIN:DAYLIGHT
DTSTART:20250330T020000
RRULE:FREQ=YEARLY;BYDAY=-1SU;BYMONTH=3
TZNAME:CEST
TZOFFSETFROM:+0100
TZOFFSETTO:+0200
END:DAYLIGHT
END:VTIMEZONE
BEGIN:VEVENT
DESCRIPTION:Cuando el arte se lleva dentro\, es imposible escapar de él. P
 aco Mora se percata de que detrás de la dureza de cuidar día tras día\,
  a tiempo completo\, a una enferma de alzhéimer hay una historia. Además
 \, nota que cada vez que lleva a su madre a un espectáculo flamenco\, ell
 a es feliz. Acaba urdiendo este fantástico proyecto.\nEvent link: https:/
 /teatroavanti.spaces.nexudus.com/en/events/view/1414957889/-e-a--de-flamen
 co-para-recordar---17-septiembre--21-00-h--público-adulto-\n
DTEND;TZID=Europe/Paris:20210917T220000
DTSTAMP:20260421T235030Z
DTSTART;TZID=Europe/Paris:20210917T210000
LOCATION:Teatro Avanti
SEQUENCE:0
SUMMARY:¡E.A! de Flamenco para Recordar\,… 17 SEPTIEMBRE (21:00 h) Públ
 ico Adulto. 
UID:b291080e-e589-4ca1-b1fd-0f8b572c073b
END:VEVENT
END:VCALENDAR
