BEGIN:VCALENDAR
PRODID:Nexudus
VERSION:2.0
BEGIN:VTIMEZONE
TZID:Europe/Paris
X-LIC-LOCATION:Europe/Paris
BEGIN:STANDARD
DTSTART:20241027T030000
RRULE:FREQ=YEARLY;BYDAY=-1SU;BYMONTH=10
TZNAME:CET
TZOFFSETFROM:+0200
TZOFFSETTO:+0100
END:STANDARD
BEGIN:DAYLIGHT
DTSTART:20250330T020000
RRULE:FREQ=YEARLY;BYDAY=-1SU;BYMONTH=3
TZNAME:CEST
TZOFFSETFROM:+0100
TZOFFSETTO:+0200
END:DAYLIGHT
END:VTIMEZONE
BEGIN:VEVENT
DESCRIPTION:¡AY! ¡YA! es una ilusión que nos lleva a percibir la realida
 d de diferentes formas\nsugeridas por la imaginación o causadas por el en
 gaño del sentido de la vista.\nUn efecto que pone de manifiesto que nuest
 ros ojos no son cámaras de vídeo\nque graban todo lo que ocurre\, sino q
 ue nuestro cerebro interpreta y reelabora\nla información que nos proporc
 ionan nuestros sentidos.\nEvent link: https://teatroavanti.spaces.nexudus.
 com/en/events/view/1178626491/-ay---ya----cía--macarena-recuerda---vierne
 s-13-y-sábado-14-diciembre--21-00-h--publico-adulto\n
DTEND;TZID=Europe/Paris:20191214T220000
DTSTAMP:20260422T085853Z
DTSTART;TZID=Europe/Paris:20191213T210000
LOCATION:Teatro Avanti
SEQUENCE:0
SUMMARY:¡AY! ¡YA! - Cía. Macarena Recuerda - VIERNES 13 Y SÁBADO 14 Dic
 iembre (21:00 h) Publico Adulto
UID:6c4e5cb5-d918-402f-8bdd-765f5c6741a1
END:VEVENT
END:VCALENDAR
