BEGIN:VCALENDAR
PRODID:Nexudus
VERSION:2.0
BEGIN:VTIMEZONE
TZID:Europe/Paris
X-LIC-LOCATION:Europe/Paris
BEGIN:STANDARD
DTSTART:20241027T030000
RRULE:FREQ=YEARLY;BYDAY=-1SU;BYMONTH=10
TZNAME:CET
TZOFFSETFROM:+0200
TZOFFSETTO:+0100
END:STANDARD
BEGIN:DAYLIGHT
DTSTART:20250330T020000
RRULE:FREQ=YEARLY;BYDAY=-1SU;BYMONTH=3
TZNAME:CEST
TZOFFSETFROM:+0100
TZOFFSETTO:+0200
END:DAYLIGHT
END:VTIMEZONE
BEGIN:VEVENT
DESCRIPTION:Pepe Céspedes y Paco Calavera se unen para rendir tributo a lo
 s cómicos que más han influido en sus carreras: Paco Calavera y Pepe Cé
 spedes.  Presentan un show de 90 minutos en el que la carcajada está gara
 ntizada de mil maneras posibles\, ya sea interpretando a personajes de cre
 ación propia\, como improvisando\, o haciendo que cante el respetable. Im
 perdible oportunidad para ver a dos covers que mejoran a los originales\; 
 Paco y Pepe haciendo de Pepe y Paco.\n\nEvent link: https://teatroavan
 ti.spaces.nexudus.com/en/events/view/1415697406/tributo-a-pepe-céspedes-y
 -paco-calavera---sábado-23-abril--20-30-h--público-adulto\n
DTEND;TZID=Europe/Paris:20270123T213000
DTSTAMP:20260426T031717Z
DTSTART;TZID=Europe/Paris:20270123T203000
LOCATION:Teatro Avanti
SEQUENCE:0
SUMMARY:TRIBUTO A PEPE CÉSPEDES Y PACO CALAVERA - Sábado 23 Abril (20:30 
 h) Público Adulto
UID:77dfc4ed-42b6-4bfb-8946-6ed67a0cbf67
END:VEVENT
END:VCALENDAR
