BEGIN:VCALENDAR
PRODID:Nexudus
VERSION:2.0
BEGIN:VTIMEZONE
TZID:Europe/Paris
X-LIC-LOCATION:Europe/Paris
BEGIN:STANDARD
DTSTART:20241027T030000
RRULE:FREQ=YEARLY;BYDAY=-1SU;BYMONTH=10
TZNAME:CET
TZOFFSETFROM:+0200
TZOFFSETTO:+0100
END:STANDARD
BEGIN:DAYLIGHT
DTSTART:20250330T020000
RRULE:FREQ=YEARLY;BYDAY=-1SU;BYMONTH=3
TZNAME:CEST
TZOFFSETFROM:+0100
TZOFFSETTO:+0200
END:DAYLIGHT
END:VTIMEZONE
BEGIN:VEVENT
DESCRIPTION:De los creadores de “8 Apellidos Andaluces”: Quique De La F
 uente y Txapela Cádiz\, nos llega una comedia retro\, vintage\, nostalgic
 ómica para recordar nuestras mejores épocas. No pararás de reír mientr
 as recorres los años 80 y 90. \nEvent link: https://teatroavanti.spaces.n
 exudus.com/en/events/view/1415677512/la-comedia-de-los-80s-y-90s---quique-
 de-la-fuente-y-txapela-cádiz--viernes-25-septiembre--20-30-h--público-ad
 ulto\n
DTEND;TZID=Europe/Paris:20260925T213000
DTSTAMP:20260425T143542Z
DTSTART;TZID=Europe/Paris:20260925T203000
LOCATION:Teatro Avanti
SEQUENCE:0
SUMMARY:LA COMEDIA DE LOS 80s y 90s - Quique De la Fuente y Txapela Cádiz-
  Viernes 25 Septiembre (20:30 h) Público Adulto
UID:a1580e03-9bb7-4970-aed8-accafc31eb88
END:VEVENT
END:VCALENDAR
