BEGIN:VCALENDAR
PRODID:Nexudus
VERSION:2.0
BEGIN:VTIMEZONE
TZID:Europe/Paris
X-LIC-LOCATION:Europe/Paris
BEGIN:STANDARD
DTSTART:20241027T030000
RRULE:FREQ=YEARLY;BYDAY=-1SU;BYMONTH=10
TZNAME:CET
TZOFFSETFROM:+0200
TZOFFSETTO:+0100
END:STANDARD
BEGIN:DAYLIGHT
DTSTART:20250330T020000
RRULE:FREQ=YEARLY;BYDAY=-1SU;BYMONTH=3
TZNAME:CEST
TZOFFSETFROM:+0100
TZOFFSETTO:+0200
END:DAYLIGHT
END:VTIMEZONE
BEGIN:VEVENT
DESCRIPTION:Abraham Martín\, como número uno en el World Comedy Tour\, pr
 esenta Comedy Padel Tour: un espectáculo de comedia donde\, a través del
  humor y sus peculiares “consejitos”\, te enseña el camino para llega
 r a lo más alto y ser un “makina”. Consejos cargados de ironía para 
 que te vaya mejor en la vida en general y te rías de todo. Después de ve
 r y reír con este monólogo\, sabrás cómo tienes que comportarte dentro
  y fuera de la pista. Hazme caso\, bro y sister.\nEvent link: https://teat
 roavanti.spaces.nexudus.com/en/events/view/1415666601/comedy-padel-tour---
 abraham-martín---viernes-22-enero--20-30-h--público-adulto\n
DTEND;TZID=Europe/Paris:20270122T213000
DTSTAMP:20260426T032116Z
DTSTART;TZID=Europe/Paris:20270122T203000
LOCATION:Teatro Avanti
SEQUENCE:0
SUMMARY:COMEDY PADEL TOUR - Abraham Martín - Viernes 22 Enero (20:30 h) P
 úblico Adulto
UID:295a5178-14af-4dee-b156-b87ff8da3749
END:VEVENT
END:VCALENDAR
