BEGIN:VCALENDAR
PRODID:Nexudus
VERSION:2.0
BEGIN:VTIMEZONE
TZID:Europe/Paris
X-LIC-LOCATION:Europe/Paris
BEGIN:STANDARD
DTSTART:20241027T030000
RRULE:FREQ=YEARLY;BYDAY=-1SU;BYMONTH=10
TZNAME:CET
TZOFFSETFROM:+0200
TZOFFSETTO:+0100
END:STANDARD
BEGIN:DAYLIGHT
DTSTART:20250330T020000
RRULE:FREQ=YEARLY;BYDAY=-1SU;BYMONTH=3
TZNAME:CEST
TZOFFSETFROM:+0100
TZOFFSETTO:+0200
END:DAYLIGHT
END:VTIMEZONE
BEGIN:VEVENT
DESCRIPTION:El show que destripará todo el universo de Marvel a través de
  los \,ojos de Dani Lagi del canal YouTube “Strip Marvel”\, autor del 
 \,libro Cómo conocí a vuestra Marvel y fan de la compañía desde \,pequ
 eño. No es un experto en cómics\, ni en cine\, solo soy un fan \,que ama
  este mundillo. \, \,¿Te gustan las películas de Marvel? Spider-Man\, Ca
 pitán \,América\, Hulk... pues estás de enhorabuena. Conoce al \,humori
 sta Dani Lagi\, creador del famoso canal de YouTube con \,más de 796k sus
 criptores y 150 millones de visualizaciones. \,El autor del libro "Cómo c
 onocí a vuestra Marvel"\, repasa de una \,forma divertida las películas 
 de nuestros superhéroes favoritos y \,sueña con todos los proyectos veni
 deros. El público también será \,importante para el show así que ¡Te 
 lo pasarás excelsior!\nEvent link: https://teatroavanti.spaces.nexudus.co
 m/en/events/view/1415129627/strip-marvel-show---ninona-producciones----dom
 ingo-22-enero--19-00-h--público-adulto\n
DTEND;TZID=Europe/Paris:20230122T200000
DTSTAMP:20260421T121826Z
DTSTART;TZID=Europe/Paris:20230122T190000
LOCATION:Teatro Avanti
SEQUENCE:0
SUMMARY:STRIP MARVEL SHOW - Ninona Producciones  - Domingo 22 Enero (19:00 
 h) Público Adulto
UID:6c2a32fc-4d28-4645-9c78-b662b61bacc3
END:VEVENT
END:VCALENDAR
