BEGIN:VCALENDAR
PRODID:Nexudus
VERSION:2.0
BEGIN:VTIMEZONE
TZID:Europe/Paris
X-LIC-LOCATION:Europe/Paris
BEGIN:STANDARD
DTSTART:20241027T030000
RRULE:FREQ=YEARLY;BYDAY=-1SU;BYMONTH=10
TZNAME:CET
TZOFFSETFROM:+0200
TZOFFSETTO:+0100
END:STANDARD
BEGIN:DAYLIGHT
DTSTART:20250330T020000
RRULE:FREQ=YEARLY;BYDAY=-1SU;BYMONTH=3
TZNAME:CEST
TZOFFSETFROM:+0100
TZOFFSETTO:+0200
END:DAYLIGHT
END:VTIMEZONE
BEGIN:VEVENT
DESCRIPTION:Pablo Ibarburu se estrena en solitario con el show "La hora de 
 Pablo Ibarburu"\, un show de Stand Up Comedy en el que no faltarán sus in
 fames imitaciones\, sus divertidas anécdotas y la continua exploración d
 e sus confusas emociones. Después de años de apariciones en programas co
 mo “Yu no te pierdas nada”\, “Locomundo”\, “La resistencia” o 
 “El Intermedio”\; el cómico vasco nos presenta un perfil desconocido 
 hasta el momento. En este espectáculo conoceremos más sobre la influenci
 a que las palabrotas y la religión tuvieron en su educación\, su carrera
  antes de dedicarse a la comedia e incluso una historia universitaria ileg
 al de contar que podría acabar con él entre rejas.  \nEvent link: https:
 //teatroavanti.spaces.nexudus.com/en/events/view/1415107067/la-hora-de-pab
 lo-ibarburu---sábado-21-enero--21-00-h--público-adulto\n
DTEND;TZID=Europe/Paris:20230121T220000
DTSTAMP:20260421T121826Z
DTSTART;TZID=Europe/Paris:20230121T210000
LOCATION:Teatro Avanti
SEQUENCE:0
SUMMARY:LA HORA DE PABLO IBARBURU - Sábado 21 Enero (21:00 h) Público Adu
 lto
UID:ffcb35e7-9b74-4931-aa70-1275373bd652
END:VEVENT
END:VCALENDAR
