BEGIN:VCALENDAR
PRODID:Nexudus
VERSION:2.0
BEGIN:VTIMEZONE
TZID:Europe/Paris
X-LIC-LOCATION:Europe/Paris
BEGIN:STANDARD
DTSTART:20241027T030000
RRULE:FREQ=YEARLY;BYDAY=-1SU;BYMONTH=10
TZNAME:CET
TZOFFSETFROM:+0200
TZOFFSETTO:+0100
END:STANDARD
BEGIN:DAYLIGHT
DTSTART:20250330T020000
RRULE:FREQ=YEARLY;BYDAY=-1SU;BYMONTH=3
TZNAME:CEST
TZOFFSETFROM:+0100
TZOFFSETTO:+0200
END:DAYLIGHT
END:VTIMEZONE
BEGIN:VEVENT
DESCRIPTION:Monologueando con Sheila Rivas es un espectáculo compuesto por
  tres monólogos activos. 'Yo volé la Torre Gemela'\, 'Estoy hasta... el 
 moño' y 'Volando voy... pero no vengo': tres historias disparatadas conta
 das por tres personajes muy diferentes entre sí. La Prostituta\, La Beata
  y La Alta Ejecutiva\, tres mujeres coraje y llenas de descaro.\nEvent lin
 k: https://teatroavanti.spaces.nexudus.com/en/events/view/1415086881/monol
 ogueando---sheila-rivas---sábado-3-diciembre--21-00-h--público-adulto\n
DTEND;TZID=Europe/Paris:20221203T220000
DTSTAMP:20260421T135818Z
DTSTART;TZID=Europe/Paris:20221203T210000
LOCATION:Teatro Avanti
SEQUENCE:0
SUMMARY:MONOLOGUEANDO - Sheila Rivas - Sábado 3 Diciembre (21:00 h) Públi
 co Adulto
UID:390300ce-bc76-4d75-be76-24fbd023a25b
END:VEVENT
END:VCALENDAR
