BEGIN:VCALENDAR
PRODID:Nexudus
VERSION:2.0
BEGIN:VTIMEZONE
TZID:Europe/Paris
X-LIC-LOCATION:Europe/Paris
BEGIN:STANDARD
DTSTART:20241027T030000
RRULE:FREQ=YEARLY;BYDAY=-1SU;BYMONTH=10
TZNAME:CET
TZOFFSETFROM:+0200
TZOFFSETTO:+0100
END:STANDARD
BEGIN:DAYLIGHT
DTSTART:20250330T020000
RRULE:FREQ=YEARLY;BYDAY=-1SU;BYMONTH=3
TZNAME:CEST
TZOFFSETFROM:+0100
TZOFFSETTO:+0200
END:DAYLIGHT
END:VTIMEZONE
BEGIN:VEVENT
DESCRIPTION:Érase una vez un mundo lleno de sueños deseosos de ser compar
 tidos... En eternamente soñadoras basta con seguir la pista que nos alert
 a sobre la existencia de nuestros sueños para transportarnos a mundos má
 gicos e invitarnos a imaginar...a soñar. En eternamente soñadoras no imp
 orta la edad\, sólo necesitamos ver con los ojos inocentes de la infancia
  y hacer realidad nuestros sueños... nuestras ilusiones. En eternamente s
 oñadoras aparecen princesas desconocidas o injustamente olvidadas...Es po
 sible... quizás... quién sabe si nos reconozcamos con alguna de ellas. E
 n eternamente soñadoras a veces y sin razón alguna\, aparece esa niña e
 special que nos sigue mirando a través de nuestro reflejo... Esa niña qu
 e nos recuerda quiénes somos\, nos abraza en nuestro camino y nos regala 
 momentos inolvidables. En eternamente soñadoras nuestro lenguaje es la da
 nza\, nuestra manera de contar lo que aflora en nuestro interior. La danza
  es el hilo conductor para plasmar nuestros sueños\, nuestras inquietudes
 ... nuestra inspiración para acercarnos a vuestros corazones.\nEvent link
 : https://teatroavanti.spaces.nexudus.com/en/events/view/1415084738/eterna
 mente-soñadoras---eva-panadero-cía-de-danza--domingo-13-noviembre--18-00
 -h--todos-los-públicos\n
DTEND;TZID=Europe/Paris:20221113T190000
DTSTAMP:20260421T135735Z
DTSTART;TZID=Europe/Paris:20221113T180000
LOCATION:Teatro Avanti
SEQUENCE:0
SUMMARY:ETERNAMENTE SOÑADORAS - Eva Panadero Cía de Danza- Domingo 13 Nov
 iembre (18:00 h) Todos los públicos
UID:fa000ab5-f397-4708-99c5-31c415ddc6eb
END:VEVENT
END:VCALENDAR
