BEGIN:VCALENDAR
PRODID:Nexudus
VERSION:2.0
BEGIN:VTIMEZONE
TZID:Europe/Paris
X-LIC-LOCATION:Europe/Paris
BEGIN:STANDARD
DTSTART:20241027T030000
RRULE:FREQ=YEARLY;BYDAY=-1SU;BYMONTH=10
TZNAME:CET
TZOFFSETFROM:+0200
TZOFFSETTO:+0100
END:STANDARD
BEGIN:DAYLIGHT
DTSTART:20250330T020000
RRULE:FREQ=YEARLY;BYDAY=-1SU;BYMONTH=3
TZNAME:CEST
TZOFFSETFROM:+0100
TZOFFSETTO:+0200
END:DAYLIGHT
END:VTIMEZONE
BEGIN:VEVENT
DESCRIPTION:Solitarias de estreno es un viaje emocional a través de la his
 toria de sus dos protagonistas: Lucía y Cris. Una comedia musical en un a
 cto que gira en torno a la complejidad de las relaciones y las situaciones
  adversas y diversas de la vida. Solitarias es un espectáculo que propone
  un punto de vista actual y renovada de las relaciones sentimentales: el e
 mpoderamiento individual\, el respeto entre iguales y el valor de la liber
 tad.\nEvent link: https://teatroavanti.spaces.nexudus.com/en/events/view/1
 415084689/solitarias-de-estreno---katmandú-producciones---viernes-14-octu
 bre--22-30-h--público-adulto\n
DTEND;TZID=Europe/Paris:20221014T233000
DTSTAMP:20260421T154045Z
DTSTART;TZID=Europe/Paris:20221014T223000
LOCATION:Teatro Avanti
SEQUENCE:0
SUMMARY:SOLITARIAS DE ESTRENO - Katmandú Producciones - Viernes 14 Octubre
  (22:30 h) Público Adulto
UID:80d6edb5-41c2-425e-81b8-17a5a85919ee
END:VEVENT
END:VCALENDAR
