BEGIN:VCALENDAR
PRODID:Nexudus
VERSION:2.0
BEGIN:VTIMEZONE
TZID:Europe/Paris
X-LIC-LOCATION:Europe/Paris
BEGIN:STANDARD
DTSTART:20241027T030000
RRULE:FREQ=YEARLY;BYDAY=-1SU;BYMONTH=10
TZNAME:CET
TZOFFSETFROM:+0200
TZOFFSETTO:+0100
END:STANDARD
BEGIN:DAYLIGHT
DTSTART:20250330T020000
RRULE:FREQ=YEARLY;BYDAY=-1SU;BYMONTH=3
TZNAME:CEST
TZOFFSETFROM:+0100
TZOFFSETTO:+0200
END:DAYLIGHT
END:VTIMEZONE
BEGIN:VEVENT
DESCRIPTION:Mara tiene orejas grandes y es motivo de burla por parte de sus
  compañeros. Triste y apenada\, le pregunta a su mamá y\, tras su maravi
 llosa e imaginativa respuesta\, Mara cambia su manera de enfrentarse a las
  burlas con una sonrisa y una gran imaginación para descubrir que lo que 
 la hace distinta es justamente lo que la convierte en única y maravillosa
 .\nEvent link: https://teatroavanti.spaces.nexudus.com/en/events/view/1415
 084622/orejas-de-mariposa---espiral-mágica---sábado-15-octubre--12-30-h-
 -público-familiar\n
DTEND;TZID=Europe/Paris:20221015T133000
DTSTAMP:20260421T154038Z
DTSTART;TZID=Europe/Paris:20221015T123000
LOCATION:Teatro Avanti
SEQUENCE:0
SUMMARY:OREJAS DE MARIPOSA - Espiral Mágica - Sábado 15 Octubre (12:30 h)
  Público Familiar
UID:a0f8a088-4cf8-4e77-8b36-a0265e6f1637
END:VEVENT
END:VCALENDAR
