BEGIN:VCALENDAR
PRODID:Nexudus
VERSION:2.0
BEGIN:VTIMEZONE
TZID:Europe/Paris
X-LIC-LOCATION:Europe/Paris
BEGIN:STANDARD
DTSTART:20241027T030000
RRULE:FREQ=YEARLY;BYDAY=-1SU;BYMONTH=10
TZNAME:CET
TZOFFSETFROM:+0200
TZOFFSETTO:+0100
END:STANDARD
BEGIN:DAYLIGHT
DTSTART:20250330T020000
RRULE:FREQ=YEARLY;BYDAY=-1SU;BYMONTH=3
TZNAME:CEST
TZOFFSETFROM:+0100
TZOFFSETTO:+0200
END:DAYLIGHT
END:VTIMEZONE
BEGIN:VEVENT
DESCRIPTION:En Spoiler Alert se cuestionan las realidades de: la Generació
 n Y (Millenials)\, claramente marcada por el inicio de la digitalización\
 ; y la Generación Z (Centenials)\, a la que pertenecen l@s intérpretes\,
  nativ@s digitales acostumbrad@s a contenidos prácticamente infinitos e i
 nmediatos.  Ambas comparten particularidades que las diferencian de las an
 teriores generaciones como la delgada línea entre privado y público\, el
  mayor individualismo unido a una mayor conciencia social global y a una m
 ayor capacidad para trabajar en red\, la creatividad desbordada\, la capac
 idad de aprendizaje autodidacta\, la preferencia a la imagen sobre el text
 o u otras comunicaciones\, el desafío a las convenciones y ¿una mayor di
 ferencia entre expectativa y realidad?  \nEvent link: https://teatroavanti
 .spaces.nexudus.com/en/events/view/1415078809/spoiler-alert--no-somos-unos
 -youtubers-cualquiera---aurora-diago---sábado-24-septiembre--21-00-h--pú
 blico-adulto\n
DTEND;TZID=Europe/Paris:20220924T220000
DTSTAMP:20260421T153951Z
DTSTART;TZID=Europe/Paris:20220924T210000
LOCATION:Teatro Avanti
SEQUENCE:0
SUMMARY:SPOILER ALERT\, NO SOMOS UNOS YOUTUBERS CUALQUIERA - Aurora Diago -
  Sábado 24 Septiembre (21:00 h) Público adulto
UID:77e35da4-0f3b-4f31-89bf-c2fc3ec0c658
END:VEVENT
END:VCALENDAR
