BEGIN:VCALENDAR
PRODID:Nexudus
VERSION:2.0
BEGIN:VTIMEZONE
TZID:Europe/Paris
X-LIC-LOCATION:Europe/Paris
BEGIN:STANDARD
DTSTART:20241027T030000
RRULE:FREQ=YEARLY;BYDAY=-1SU;BYMONTH=10
TZNAME:CET
TZOFFSETFROM:+0200
TZOFFSETTO:+0100
END:STANDARD
BEGIN:DAYLIGHT
DTSTART:20250330T020000
RRULE:FREQ=YEARLY;BYDAY=-1SU;BYMONTH=3
TZNAME:CEST
TZOFFSETFROM:+0100
TZOFFSETTO:+0200
END:DAYLIGHT
END:VTIMEZONE
BEGIN:VEVENT
DESCRIPTION:Miss Tupper Sex\, el tronchante monólogo de Pilar Ordóñez ba
 sado en el libro homónimo donde la propia autora\, actriz y humorista hab
 la sin reparos de sexo poniendo al servicio del público toda la curva de 
 la sexualidad femenina desde el apetito sexual hasta el fisting. Toda una 
 fiesta de color\, donde se recomienda entrar predispuesto a la risa y con 
 una copa en la mano. Pues como dice Pilar: esto es de ¡PELOTAZO!\nEvent l
 ink: https://teatroavanti.spaces.nexudus.com/en/events/view/1415073218/mis
 s-tupper-sex --el-club-del-taburete---sábado-1-octubre--21-00-h--públic
 o-adulto\n
DTEND;TZID=Europe/Paris:20221001T220000
DTSTAMP:20260421T154038Z
DTSTART;TZID=Europe/Paris:20221001T210000
LOCATION:Teatro Avanti
SEQUENCE:0
SUMMARY:MISS TUPPER SEX - El Club del Taburete - Sábado 1 Octubre (21:00 
 h) Público Adulto
UID:b02e9c4b-9f3f-401a-acb0-9178ca369928
END:VEVENT
END:VCALENDAR
