BEGIN:VCALENDAR
PRODID:Nexudus
VERSION:2.0
BEGIN:VTIMEZONE
TZID:Europe/Paris
X-LIC-LOCATION:Europe/Paris
BEGIN:STANDARD
DTSTART:20241027T030000
RRULE:FREQ=YEARLY;BYDAY=-1SU;BYMONTH=10
TZNAME:CET
TZOFFSETFROM:+0200
TZOFFSETTO:+0100
END:STANDARD
BEGIN:DAYLIGHT
DTSTART:20250330T020000
RRULE:FREQ=YEARLY;BYDAY=-1SU;BYMONTH=3
TZNAME:CEST
TZOFFSETFROM:+0100
TZOFFSETTO:+0200
END:DAYLIGHT
END:VTIMEZONE
BEGIN:VEVENT
DESCRIPTION:Parece un cuento de hadas\, pero lo cierto es que un flechazo d
 eterminó la vida de Anita Delgado\, que había emigrado junto a su famili
 a a Madrid en busca de mejores oportunidades.\nHabía debutado en el café
  Central-Kursaal como bailarina telonera. En mayo de 1906\, el marajá de 
 Kapurthala (India)\, Jagatjit Singh\, estaba en Madrid\, donde había acud
 ido para asistir a la boda del rey Alfonso XIII con Victoria\nEugenia de B
 attemberg. El príncipe\, decidió ir a ver una función al Kursaal y qued
 ó eclipsado por la belleza de Anita.\nEmpezó a demostrar interés por el
 la y\, a través del intérprete del hotel París\, donde se hospedaba\, l
 e hizo llegar dos ofertas monetarias a cambio de sus favores. Pero la anda
 luza se cerró en banda. Como ella misma confesó en sus memorias: “Aque
 llo parecía la venta de mi persona”.\nPoco a poco la conspiración amor
 osa triunfó entre Anita Delgado y el marajá de Kapurthala\, se casarón 
 el 28 de enero de 1908\, en una ceremonia fastuosa\, comenzando una vida d
 e película.\nEvent link: https://teatroavanti.spaces.nexudus.com/en/event
 s/view/1415029514/la-maharani-de-kapurthala---ashira-danza-oriental---domi
 ngo-26-junio--19-30-h--todos-los-públicos\n
DTEND;TZID=Europe/Paris:20220626T203000
DTSTAMP:20260421T154138Z
DTSTART;TZID=Europe/Paris:20220626T193000
LOCATION:Teatro Avanti
SEQUENCE:0
SUMMARY:LA MAHARANI DE KAPURTHALA - Ashira Danza Oriental - Domingo 26 Juni
 o (19:30 h) Todos los públicos
UID:3b82883b-0f40-4f0a-b058-6fd4bede5c79
END:VEVENT
END:VCALENDAR
