BEGIN:VCALENDAR
PRODID:Nexudus
VERSION:2.0
BEGIN:VTIMEZONE
TZID:Europe/Paris
X-LIC-LOCATION:Europe/Paris
BEGIN:STANDARD
DTSTART:20241027T030000
RRULE:FREQ=YEARLY;BYDAY=-1SU;BYMONTH=10
TZNAME:CET
TZOFFSETFROM:+0200
TZOFFSETTO:+0100
END:STANDARD
BEGIN:DAYLIGHT
DTSTART:20250330T020000
RRULE:FREQ=YEARLY;BYDAY=-1SU;BYMONTH=3
TZNAME:CEST
TZOFFSETFROM:+0100
TZOFFSETTO:+0200
END:DAYLIGHT
END:VTIMEZONE
BEGIN:VEVENT
DESCRIPTION:La fábula de los músicos de Bremen nos muestra un mensaje de 
 tolerancia y respeto\nhacia los demás\, aunque no sean como nosotros. Los
  protagonistas de esta\nfábula son cuatro animales distintos una perrita\
 , un gallo\, una gatita y un burro.\nDos de ellos\, el perro y el gato\, s
 upuestos enemigos desde siempre. La fábula\nnos enseña que si nos unimos
  con otros seremos más fuertes. Todo un espectáculo\nlleno de diversión
 \, luz y canciones originales\, con una historia inolvidable.\nEvent link:
  https://teatroavanti.spaces.nexudus.com/en/events/view/1180277102/los-mú
 sicos-de-bremen---esphera-teatro---domingo-15-diciembre--12-00-y-18-00-h--
 público-familiar-\n
DTEND;TZID=Europe/Paris:20191215T190000
DTSTAMP:20260422T042049Z
DTSTART;TZID=Europe/Paris:20191215T120000
LOCATION:Teatro Avanti
SEQUENCE:0
SUMMARY:Los músicos de Bremen - Esphera Teatro - Domingo 15 Diciembre (12:
 00 y 18:00 h) Público Familiar.
UID:7e68bda4-ba3c-4644-90a2-dda62cfe7082
END:VEVENT
END:VCALENDAR
