BEGIN:VCALENDAR
PRODID:Nexudus
VERSION:2.0
BEGIN:VTIMEZONE
TZID:Europe/Paris
X-LIC-LOCATION:Europe/Paris
BEGIN:STANDARD
DTSTART:20241027T030000
RRULE:FREQ=YEARLY;BYDAY=-1SU;BYMONTH=10
TZNAME:CET
TZOFFSETFROM:+0200
TZOFFSETTO:+0100
END:STANDARD
BEGIN:DAYLIGHT
DTSTART:20250330T020000
RRULE:FREQ=YEARLY;BYDAY=-1SU;BYMONTH=3
TZNAME:CEST
TZOFFSETFROM:+0100
TZOFFSETTO:+0200
END:DAYLIGHT
END:VTIMEZONE
BEGIN:VEVENT
DESCRIPTION:Ambientada en la época medieval\, los Reyes Católicos de Espa
 ña\,ISABEL Y FERNANDO\, reciben a CRISTÓBAL COLÓN\, con la firme intenc
 ión de demostrar que el mundo es redondo\, pero al final lo que descubren
  es un nuevo continente en el que ya existe el “Burguer King”.\nEvent 
 link: https://teatroavanti.spaces.nexudus.com/en/events/view/1415089208/ta
 nto-monta--monta-tanto---teatro-sí---aplazada-hasta-nueva-fecha-por-razon
 es-ajenas-a-teatro-avanti\n
DTEND;TZID=Europe/Paris:20221112T220000
DTSTAMP:20260421T140501Z
DTSTART;TZID=Europe/Paris:20221112T210000
LOCATION:Teatro Avanti
SEQUENCE:0
SUMMARY:TANTO MONTA\, MONTA TANTO - Teatro Sí - APLAZADA HASTA NUEVA FECHA
  POR RAZONES AJENAS A TEATRO AVANTI
UID:8a19e9bd-d747-4c24-806b-96104cfbd34e
END:VEVENT
END:VCALENDAR
