BEGIN:VCALENDAR
PRODID:Nexudus
VERSION:2.0
BEGIN:VTIMEZONE
TZID:Europe/Paris
X-LIC-LOCATION:Europe/Paris
BEGIN:STANDARD
DTSTART:20241027T030000
RRULE:FREQ=YEARLY;BYDAY=-1SU;BYMONTH=10
TZNAME:CET
TZOFFSETFROM:+0200
TZOFFSETTO:+0100
END:STANDARD
BEGIN:DAYLIGHT
DTSTART:20250330T020000
RRULE:FREQ=YEARLY;BYDAY=-1SU;BYMONTH=3
TZNAME:CEST
TZOFFSETFROM:+0100
TZOFFSETTO:+0200
END:DAYLIGHT
END:VTIMEZONE
BEGIN:VEVENT
DESCRIPTION:Pizpireto\, un show de comedia alegre vivaz y algo coqueto o es
 o dice la RAE.\,Está orquestado por David Puerto\, un cómico que hace de
  sus reflexiones y vivencias un espectáculo de comedia\, buscando el lado
  positivo de la vida\, si es posible o al menos el lado gracioso. Haciendo
  uso del monólogo clásico \,(Stand-up)\, improvisación (crowd work) y c
 omedia musical. Un show lleno de interacción con el público\, gamberrism
 o\, elegancia… todo \,muy pizpireto\nEvent link: https://teatroavanti.sp
 aces.nexudus.com/en/events/view/1415119183/pizpireto---david-puerto---sáb
 ado-22-abril--21-00-h--público-adulto\n
DTEND;TZID=Europe/Paris:20230422T220000
DTSTAMP:20260421T104810Z
DTSTART;TZID=Europe/Paris:20230422T210000
LOCATION:Teatro Avanti
SEQUENCE:0
SUMMARY:PIZPIRETO - David Puerto - Sábado 22 Abril (21:00 h) Público Adul
 to
UID:c5ecebbb-98fc-4d26-894e-89e527970e81
END:VEVENT
END:VCALENDAR
