BEGIN:VCALENDAR
PRODID:Nexudus
VERSION:2.0
BEGIN:VTIMEZONE
TZID:Europe/Paris
X-LIC-LOCATION:Europe/Paris
BEGIN:STANDARD
DTSTART:20241027T030000
RRULE:FREQ=YEARLY;BYDAY=-1SU;BYMONTH=10
TZNAME:CET
TZOFFSETFROM:+0200
TZOFFSETTO:+0100
END:STANDARD
BEGIN:DAYLIGHT
DTSTART:20250330T020000
RRULE:FREQ=YEARLY;BYDAY=-1SU;BYMONTH=3
TZNAME:CEST
TZOFFSETFROM:+0100
TZOFFSETTO:+0200
END:DAYLIGHT
END:VTIMEZONE
BEGIN:VEVENT
DESCRIPTION:Noche con Dolores es un programa de televisión que se emite en
  directo de madrugada. Dolores\, su presentadora\, es una vidente de lo m
 ás peculiar.  Hoy está de estreno. ¡Es su primer programa en la tele! Y
  comienza el show dispuesta a conducir la velada con su maravilloso repert
 orio de destrezas esotéricas: Limpieza de energías\, bola de adivinació
 n\, tarot\, llamadas en directo… ¡Ya se huele la magia en el plató! ¡
 Todo está listo!  \nEvent link: https://teatroavanti.spaces.nexudus.com/e
 n/events/view/1415084833/noche-con-dolores---facultad-mermada---viernes-11
 -noviembre--21-00-h--público-adulto\n
DTEND;TZID=Europe/Paris:20221111T220000
DTSTAMP:20260421T140414Z
DTSTART;TZID=Europe/Paris:20221111T210000
LOCATION:Teatro Avanti
SEQUENCE:0
SUMMARY:NOCHE CON DOLORES - Facultad Mermada - Viernes 11 Noviembre (21:00 
 h) Público Adulto
UID:eb37f67c-b0f6-466a-a997-eff54894c712
END:VEVENT
END:VCALENDAR
