BEGIN:VCALENDAR
PRODID:Nexudus
VERSION:2.0
BEGIN:VTIMEZONE
TZID:Europe/Paris
X-LIC-LOCATION:Europe/Paris
BEGIN:STANDARD
DTSTART:20241027T030000
RRULE:FREQ=YEARLY;BYDAY=-1SU;BYMONTH=10
TZNAME:CET
TZOFFSETFROM:+0200
TZOFFSETTO:+0100
END:STANDARD
BEGIN:DAYLIGHT
DTSTART:20250330T020000
RRULE:FREQ=YEARLY;BYDAY=-1SU;BYMONTH=3
TZNAME:CEST
TZOFFSETFROM:+0100
TZOFFSETTO:+0200
END:DAYLIGHT
END:VTIMEZONE
BEGIN:VEVENT
DESCRIPTION:Versión libre para el teatro de títeres\, escrita por el dram
 aturgo castellonenseCarles Benlliure Bou\, inspirada en el cuento clásico
  "Lo Sastrecillo Valiente" de los hermanos Wilhelm Grimm y Jacob Grimm (18
 12). Esta versión libre\, retoma la esencia del cuento original\, lo tran
 sforma a nuestros tiempos\, nuestras vivencias y miradas\, además\, para 
 el autor castellonense\, fue necesario darle un giro femenino al personaje
  principal\, visibilizando el papel y los oficios de las mujeres\, poco o 
 nada reconocidos en la sociedad\, contribuyendo porque en la actualidad la
 s mujeres trabajadoras\, creadoras y valientes sean visibles\, tengan su n
 atural y propio espacio de igualdad\, en una sociedad que lo reclama y lo 
 exige\, además\, como parte de la normalidad con la cual desde ya se tien
 e que tomar este sentido-acción de igualdad entre personas y géneros.\nE
 vent link: https://teatroavanti.spaces.nexudus.com/en/events/view/14151258
 49/la-sastrecilla-valiente---xarop-teatre---domingo-23-abril--12-00-h--pú
 blico-familiar\n
DTEND;TZID=Europe/Paris:20230423T130000
DTSTAMP:20260421T104505Z
DTSTART;TZID=Europe/Paris:20230423T120000
LOCATION:Teatro Avanti
SEQUENCE:0
SUMMARY:LA SASTRECILLA VALIENTE - Xarop Teatre - Domingo 23 Abril (12:00 h)
  Público Familiar
UID:967747e4-4766-4de5-9efd-c076d9ef664e
END:VEVENT
END:VCALENDAR
