BEGIN:VCALENDAR
PRODID:Nexudus
VERSION:2.0
BEGIN:VTIMEZONE
TZID:Europe/Paris
X-LIC-LOCATION:Europe/Paris
BEGIN:STANDARD
DTSTART:20241027T030000
RRULE:FREQ=YEARLY;BYDAY=-1SU;BYMONTH=10
TZNAME:CET
TZOFFSETFROM:+0200
TZOFFSETTO:+0100
END:STANDARD
BEGIN:DAYLIGHT
DTSTART:20250330T020000
RRULE:FREQ=YEARLY;BYDAY=-1SU;BYMONTH=3
TZNAME:CEST
TZOFFSETFROM:+0100
TZOFFSETTO:+0200
END:DAYLIGHT
END:VTIMEZONE
BEGIN:VEVENT
DESCRIPTION:Escuchar una melodía probablemente nos puede recordar momentos
  que han\nsido importantes en nuestra vida\, porque la música está prese
 nte continuamente\nen nuestro día a día. Nos ayuda a soñar\, nos hace c
 ompañía\, \nalivia nuestras preocupaciones\, nos alegra el espíritu.\n\
 nHoy vamos a dar un paseo por la música de todos los tiempos\, por la que
 \nescuchaban nuestros abuelos y nuestros padres\, quizás con la que se\ne
 namoraron\, quizá también con la que nos enamoramos\, con la que soñamo
 s\,\nquizá con la que disfrutamos...\nEscucharemos\, entre otros\, temas 
 inolvidables como La Bien Pagá\, La Copa\nRota\, El Talismán\, Halleluja
 h de Leonard Cohen\, Sábanas blancas...\nEvent link: https://teatroavanti
 .spaces.nexudus.com/en/events/view/1415044240/la-musica-de-tu-vida--el-mus
 ical---producciones-centauro---viernes-16-septiembre--20-30-h--todos-los-p
 úblicos\n
DTEND;TZID=Europe/Paris:20220916T210000
DTSTAMP:20260421T154817Z
DTSTART;TZID=Europe/Paris:20220916T203000
LOCATION:Teatro Avanti
SEQUENCE:0
SUMMARY:LA MUSICA DE TU VIDA- EL MUSICAL - Producciones Centauro - Viernes 
 16 Septiembre (20:30 h) Todos los públicos
UID:973275c1-859f-4db2-b051-c54d70b4f164
END:VEVENT
END:VCALENDAR
