BEGIN:VCALENDAR
PRODID:Nexudus
VERSION:2.0
BEGIN:VTIMEZONE
TZID:Europe/Paris
X-LIC-LOCATION:Europe/Paris
BEGIN:STANDARD
DTSTART:20241027T030000
RRULE:FREQ=YEARLY;BYDAY=-1SU;BYMONTH=10
TZNAME:CET
TZOFFSETFROM:+0200
TZOFFSETTO:+0100
END:STANDARD
BEGIN:DAYLIGHT
DTSTART:20250330T020000
RRULE:FREQ=YEARLY;BYDAY=-1SU;BYMONTH=3
TZNAME:CEST
TZOFFSETFROM:+0100
TZOFFSETTO:+0200
END:DAYLIGHT
END:VTIMEZONE
BEGIN:VEVENT
DESCRIPTION:Con motivo del Día Internacional contra el Cáncer Infantil\, 
 tendrá lugar una gran Gala Solidaria. Serán\, Los Médicos de la Risa de
 l Hospital Universitario Reina Sofía de Córdoba\, y Teatro Avanti los en
 cargados de hacernos pasar un día inolvidable a través de la magia\, el 
 circo y mucha alegría\, y a la vez concienciar y dar visibilidad al traba
 jo de investigación en oncología pediátrica que lleva a cabo el  Instit
 uto Maimónides de Investigación Biomédica de Córdoba (IMIBIC)\,  en el
  Hospital Universitario Reina Sofía.\nEvent link: https://teatroavanti.sp
 aces.nexudus.com/en/events/view/1415112472/gala-contra-el-cancer-infantil-
 --los-médicos-de-la-risa---domingo-12-febrero--18-00-h----público-famili
 ar\n
DTEND;TZID=Europe/Paris:20230212T180000
DTSTAMP:20260421T104857Z
DTSTART;TZID=Europe/Paris:20230212T080000
LOCATION:Teatro Avanti
SEQUENCE:0
SUMMARY:GALA CONTRA EL CANCER INFANTIL - Los Médicos de la Risa - Domingo 
 12 Febrero (18:00 h) - Público Familiar
UID:77faedbb-eac4-4de2-8252-1e5ad26aa208
END:VEVENT
END:VCALENDAR
