BEGIN:VCALENDAR
PRODID:Nexudus
VERSION:2.0
BEGIN:VTIMEZONE
TZID:Europe/Paris
X-LIC-LOCATION:Europe/Paris
BEGIN:STANDARD
DTSTART:20241027T030000
RRULE:FREQ=YEARLY;BYDAY=-1SU;BYMONTH=10
TZNAME:CET
TZOFFSETFROM:+0200
TZOFFSETTO:+0100
END:STANDARD
BEGIN:DAYLIGHT
DTSTART:20250330T020000
RRULE:FREQ=YEARLY;BYDAY=-1SU;BYMONTH=3
TZNAME:CEST
TZOFFSETFROM:+0100
TZOFFSETTO:+0200
END:DAYLIGHT
END:VTIMEZONE
BEGIN:VEVENT
DESCRIPTION:Mundos Flamencos nace de la necesidad de trasmitir a los pueblo
 s latinoamericanos el arte cultural flamenco\, desde las raíces de cada p
 aís con su música autóctona\, y con el punto de partida del origen flam
 enco Andaluz.\n\nEstá compuesto por cinco Rancheras Flamencas y tres palo
 s del Flamenco que iran intercaladas entre si\, para proporcionar una vari
 edad equitativa y enriquecer el propio espectaculo dandole al mismo color\
 , sabor y protagonismo.\n\nLo hemos basado en la música ranchera originar
 ia de México adaptada al flamenco a través del cante\, el toque y el bai
 le\; fomentamos la unificación de culturas hermanas de manera sencilla.\n
 Event link: https://teatroavanti.spaces.nexudus.com/en/events/view/1415074
 077/flame-n-xico--mundos-flamencos---alexandra-ortíz-y-daniel-ayala---vie
 rnes-15-julio--21-00-h--todos-los-públicos\n
DTEND;TZID=Europe/Paris:20220715T220000
DTSTAMP:20260421T154817Z
DTSTART;TZID=Europe/Paris:20220715T210000
LOCATION:Teatro Avanti
SEQUENCE:0
SUMMARY:FLAME-N-XICO: MUNDOS FLAMENCOS - Alexandra Ortíz y Daniel Ayala - 
 Viernes 15 Julio (21:00 h) Todos los públicos
UID:b92a1d27-f1ea-4744-9e12-1563158d8fca
END:VEVENT
END:VCALENDAR
