BEGIN:VCALENDAR
PRODID:Nexudus
VERSION:2.0
BEGIN:VTIMEZONE
TZID:Europe/Paris
X-LIC-LOCATION:Europe/Paris
BEGIN:STANDARD
DTSTART:20241027T030000
RRULE:FREQ=YEARLY;BYDAY=-1SU;BYMONTH=10
TZNAME:CET
TZOFFSETFROM:+0200
TZOFFSETTO:+0100
END:STANDARD
BEGIN:DAYLIGHT
DTSTART:20250330T020000
RRULE:FREQ=YEARLY;BYDAY=-1SU;BYMONTH=3
TZNAME:CEST
TZOFFSETFROM:+0100
TZOFFSETTO:+0200
END:DAYLIGHT
END:VTIMEZONE
BEGIN:VEVENT
DESCRIPTION:Cada día\, los temibles piratas del Bajel IV\, surcan los mare
 s en busca de aventuras y tesoros escondidos\, pero algo cambiará el rumb
 o de sus destinos. Una Princesa Sirena en el exilio\, un bruto Capitán Pi
 rata enamorado y una tripulación de piratas muy peculiares están a punto
  de descubrir el secreto del árbol de la suerte: un árbol capaz de conce
 der un solo deseo a todo aquel que descubra su secreto. Embárcate en esta
  aventura musical para toda la familia. Déjate llevar por la música\, el
  humor\, el amor a la naturaleza y la locura de “PIRATAS\, El Secreto de
 l Árbol”\, un musical trepidante con melodías capaces de envolverte en
  la aventura y que te conquistará desde la primera nota.\nEvent link: htt
 ps://teatroavanti.spaces.nexudus.com/en/events/view/1415084623/el-secreto-
 del-a-rbol---elcoshow---domingo-16-octubre--12-30-h--público-familiar\n
DTEND;TZID=Europe/Paris:20221016T133000
DTSTAMP:20260421T154431Z
DTSTART;TZID=Europe/Paris:20221016T123000
LOCATION:Teatro Avanti
SEQUENCE:0
SUMMARY:EL SECRETO DEL ÁRBOL - Elcoshow - Domingo 16 Octubre (12:30 h) P
 úblico Familiar
UID:c3ee016b-41fd-4ad9-ab20-7bdf92a3c659
END:VEVENT
END:VCALENDAR
