BEGIN:VCALENDAR
PRODID:Nexudus
VERSION:2.0
BEGIN:VTIMEZONE
TZID:Europe/Paris
X-LIC-LOCATION:Europe/Paris
BEGIN:STANDARD
DTSTART:20241027T030000
RRULE:FREQ=YEARLY;BYDAY=-1SU;BYMONTH=10
TZNAME:CET
TZOFFSETFROM:+0200
TZOFFSETTO:+0100
END:STANDARD
BEGIN:DAYLIGHT
DTSTART:20250330T020000
RRULE:FREQ=YEARLY;BYDAY=-1SU;BYMONTH=3
TZNAME:CEST
TZOFFSETFROM:+0100
TZOFFSETTO:+0200
END:DAYLIGHT
END:VTIMEZONE
BEGIN:VEVENT
DESCRIPTION:Desear no ser tú y acabar siendo más tú que nunca. "Dance is
  my heroine" habla de identidad digital\, de likes\, de atreverse a ser\, 
 de permitirse fracasar\, de desconectar un rato y devolverle al cuerpo el 
 poder para experienciar la vida "real". También es un tributo a tres muje
 res que han marcado la historia de la danza: Yvonne Rainer\, Deborah Hay y
  Pina Bausch. Una propuesta escénica multidisciplinar cargada de humor qu
 e combina movimiento\, texto y audiovisual. En este solo\, la bailarina y 
 creadora manchega Cristina Gómez\, a través de su alter ego\, Fanny De F
 unny redefine el concepto de supermujer utilizando a la icónica Wonder Wo
 man como referente e inspiración. Un trabajo feminista y absolutamente vi
 talista que te hará querer salir a bailar y que te de exactamente igual s
 i lo haces bien o mal\, porque lo importante\, incluso lo politico hoy ser
 ía\, es: BAILAR. \nEvent link: https://teatroavanti.spaces.nexudus.com/en
 /events/view/1415078578/dance-is-my-heroine---cristina-gómez---sábado-17
 -diciembre--21-00-h--público-adulto\n
DTEND;TZID=Europe/Paris:20221217T220000
DTSTAMP:20260421T122759Z
DTSTART;TZID=Europe/Paris:20221217T210000
LOCATION:Teatro Avanti
SEQUENCE:0
SUMMARY:DANCE IS MY HEROINE - Cristina Gómez - Sábado 17 Diciembre (21:00
  h) Público adulto
UID:4bd42746-2127-4a14-841a-af38cb682604
END:VEVENT
END:VCALENDAR
