BEGIN:VCALENDAR
PRODID:Nexudus
VERSION:2.0
BEGIN:VTIMEZONE
TZID:Europe/Paris
X-LIC-LOCATION:Europe/Paris
BEGIN:STANDARD
DTSTART:20241027T030000
RRULE:FREQ=YEARLY;BYDAY=-1SU;BYMONTH=10
TZNAME:CET
TZOFFSETFROM:+0200
TZOFFSETTO:+0100
END:STANDARD
BEGIN:DAYLIGHT
DTSTART:20250330T020000
RRULE:FREQ=YEARLY;BYDAY=-1SU;BYMONTH=3
TZNAME:CEST
TZOFFSETFROM:+0100
TZOFFSETTO:+0200
END:DAYLIGHT
END:VTIMEZONE
BEGIN:VEVENT
DESCRIPTION:"Cinco lobitos" es un espectáculo creado para que los niños d
 isfruten con las aventuras de los pobres lobitos que habitan en los cuento
 s clásicos acompañados de los personajes de siempre. Cinco pequeñas his
 torias\, con títeres y canciones\, para desdramatizar la figura del lobo.
  \nEvent link: https://teatroavanti.spaces.nexudus.com/en/events/view/14
 15021938/cinco-lobitos---teatro-arbolé---domingo-16-abril--12-00-h--públ
 ico-familiar\n
DTEND;TZID=Europe/Paris:20230416T200000
DTSTAMP:20260421T104604Z
DTSTART;TZID=Europe/Paris:20230416T190000
LOCATION:Teatro Avanti
SEQUENCE:0
SUMMARY:CINCO LOBITOS - Teatro Arbolé - Domingo 16 Abril (12:00 h) Públic
 o Familiar
UID:22b20048-3886-41c3-a6c3-63c8e49c81d9
END:VEVENT
END:VCALENDAR
