BEGIN:VCALENDAR
PRODID:Nexudus
VERSION:2.0
BEGIN:VTIMEZONE
TZID:Europe/Paris
X-LIC-LOCATION:Europe/Paris
BEGIN:STANDARD
DTSTART:20241027T030000
RRULE:FREQ=YEARLY;BYDAY=-1SU;BYMONTH=10
TZNAME:CET
TZOFFSETFROM:+0200
TZOFFSETTO:+0100
END:STANDARD
BEGIN:DAYLIGHT
DTSTART:20250330T020000
RRULE:FREQ=YEARLY;BYDAY=-1SU;BYMONTH=3
TZNAME:CEST
TZOFFSETFROM:+0100
TZOFFSETTO:+0200
END:DAYLIGHT
END:VTIMEZONE
BEGIN:VEVENT
DESCRIPTION:Roger es un músico\, trompetista\, enamorado de las burbujas 
 y de las cosas redondas\, por eso que en su casa todo es redondo. Roger se
  pasa noche y día intentando unir sus dos pasiones\, la trompeta y las b
 urbujas\, y por eso quiere hacer burbujas con la trompeta\, pero no lo con
 sigue.\n\nUn día\, en medio de un sueño\, llega a Bombalia\, el país
  de las burbujas. Ahí conoce a Bumbú\, un hada traviesa que vive en Bo
 mbalia con burbujas de todo tipo. Bumbú\, como todas las burbujas\, se c
 omunica a través del movimiento\, sin palabras.\n\nBumbú\, viendo que 
 Roger no consigue hacer burbujas con su trompeta en el mundo real\, vendra
 ́ de Bombalia para ayudarlo a conseguir su objetivo. Bumbú\, curiosa co
 n los humanos\, sempre les observa\, y cuando estos están tristes\, pier
 den la ilusión\, la imaginación o el movimiento\, ella se acerca para 
 intentar devolverlos las ganas de jugar\, de reir\, de imaginar y de baila
 r.\nEvent link: https://teatroavanti.spaces.nexudus.com/en/events/view/141
 5078883/burbujas-de-papel---múcab-dans---domingo-18-diciembre--12-00-h--p
 úblico-familiar\n
DTEND;TZID=Europe/Paris:20221218T090000
DTSTAMP:20260421T122050Z
DTSTART;TZID=Europe/Paris:20221218T080000
LOCATION:Teatro Avanti
SEQUENCE:0
SUMMARY:BURBUJAS DE PAPEL - MÚCAB DANS - Domingo 18 Diciembre (12:00 h) P
 úblico Familiar
UID:44727e2c-fc49-421d-8e88-f36e15dfd318
END:VEVENT
END:VCALENDAR
